BEGIN:VCALENDAR
VERSION:2.0
PRODID:-//VEDC - ECPv6.15.1.1//NONSGML v1.0//EN
CALSCALE:GREGORIAN
METHOD:PUBLISH
X-WR-CALNAME:VEDC
X-ORIGINAL-URL:https://vedc.chimento.co
X-WR-CALDESC:Events for VEDC
REFRESH-INTERVAL;VALUE=DURATION:PT1H
X-Robots-Tag:noindex
X-PUBLISHED-TTL:PT1H
BEGIN:VTIMEZONE
TZID:America/Los_Angeles
BEGIN:DAYLIGHT
TZOFFSETFROM:-0800
TZOFFSETTO:-0700
TZNAME:PDT
DTSTART:20180311T100000
END:DAYLIGHT
BEGIN:STANDARD
TZOFFSETFROM:-0700
TZOFFSETTO:-0800
TZNAME:PST
DTSTART:20181104T090000
END:STANDARD
BEGIN:DAYLIGHT
TZOFFSETFROM:-0800
TZOFFSETTO:-0700
TZNAME:PDT
DTSTART:20190310T100000
END:DAYLIGHT
BEGIN:STANDARD
TZOFFSETFROM:-0700
TZOFFSETTO:-0800
TZNAME:PST
DTSTART:20191103T090000
END:STANDARD
END:VTIMEZONE
BEGIN:VTIMEZONE
TZID:America/Chicago
BEGIN:DAYLIGHT
TZOFFSETFROM:-0600
TZOFFSETTO:-0500
TZNAME:CDT
DTSTART:20180311T080000
END:DAYLIGHT
BEGIN:STANDARD
TZOFFSETFROM:-0500
TZOFFSETTO:-0600
TZNAME:CST
DTSTART:20181104T070000
END:STANDARD
END:VTIMEZONE
BEGIN:VEVENT
DTSTART;TZID=America/Los_Angeles:20190415T173000
DTEND;TZID=America/Los_Angeles:20190415T193000
DTSTAMP:20260425T074009
CREATED:20190330T175750Z
LAST-MODIFIED:20190415T135036Z
UID:12990-1555349400-1555356600@vedc.chimento.co
SUMMARY:Women In Technology
DESCRIPTION:Come and meet other women in technology. We Stand Strong Behind Empowering Women in the Technology Industry. We Believe the Best Ideas Come from Inclusion. That’s Why We Strive to Ensure Equality. Come and learn more. \n 
URL:https://vedc.chimento.co/event/women-in-technology-3
LOCATION:VEDC Women’s Business Center\, 5121 Van Nuys Blvd.\, Suite 300A\, Sherman Oaks\, CA\, 91403\, United States
CATEGORIES:Networking,Special Event,Workshop
ATTACH;FMTTYPE=image/jpeg:https://vedc.chimento.co/wp-content/uploads/2019/03/4-16-19-WIT.jpg
ORGANIZER;CN="VEDC Women&#8217%3Bs Business Center":MAILTO:info@vedc.org
END:VEVENT
BEGIN:VEVENT
DTSTART;TZID=America/Los_Angeles:20190413T120000
DTEND;TZID=America/Los_Angeles:20190413T170000
DTSTAMP:20260425T074009
CREATED:20190330T175745Z
LAST-MODIFIED:20190413T134826Z
UID:12986-1555156800-1555174800@vedc.chimento.co
SUMMARY:5th Fashion Entrepreneur Expo – “A Seed of Art & Fashion”
DESCRIPTION:5th Fashion Entrepreneur Expo – A Seed of Art & Fashion\nFashionistas!\nWe invite you and your friends to celebrate up-and-coming designers and fashion industry business owners. \nGet up close with the new trends and industry insider tips-and-tricks from our guest speakers and a live runway show. Everyone will leave a winner with a goodie bags and there will be raffle giveaways throughout the event. \nCome and Enjoy:\n\n\nKeynote Speaker\n\n\nExpert Panel w/a mini meet and greet\n\n\nLight Refreshments\n\n\nRaffle Prizes and Goodie Bags\n\n\nMini Art Exhibit\n\n\nTickets are FREE to attend with Special Exhibitor & Sponsorship opportunities available. Can’t make it and beleive in our mission? We have some donation opportunities as well. \nWhether you are a sponsor or an exhibitor\, this event is an excellent occassion to shine and promote your business\, your merchandise\, get visibility\, market research\, feedback\, and most importantly increased # of clients and SALES!\nOur previous events have had up to 180 attendees and the value is incredible!\n\n\nPlatinum Sponsor-$5\,000.00\n\n\nGold Sponsor- $2\,500.00\n\n\nBronze Sponsor- $1\,000.00\n\n\nBronze Jr. Sponsor-$500.00\n\n\nSponsor opportunities include\, logo on flyer\, in brochures\, logo included on event backdrop for pictures\, traditional and social media marketing. Targeted marketing for great ROI\, and more; depending on sponsorship level.\nContact us for more detailed information at: Email: info@wbc-la.org Website: http://www.wbc-la.org Phone: (818) 907-9922\n\n\nExhibitor Package 1- $45.00\n\n\nExhibitor Package 2- $75.00\n\n\nExhibitor Package 3- $100.00\n\n\nAll packages include table and 2 chairs\, table cloth\, social media marketing for business and other visibility opportunities.\nContact us for more detailed information at: Email: info@wbc-la.org Website: http://www.wbc-la.org Phone: (818) 907-9922
URL:https://vedc.chimento.co/event/5th-fashion-entrepreneur-expo-a-seed-of-art-fashion
LOCATION:VEDC Women’s Business Center\, 5121 Van Nuys Blvd.\, Suite 300A\, Sherman Oaks\, CA\, 91403\, United States
CATEGORIES:Expo,Networking,Special Event,Workshop
ATTACH;FMTTYPE=image/jpeg:https://vedc.chimento.co/wp-content/uploads/2019/03/cover-picture.jpg
ORGANIZER;CN="VEDC Women&#8217%3Bs Business Center":MAILTO:info@vedc.org
END:VEVENT
BEGIN:VEVENT
DTSTART;TZID=America/Los_Angeles:20190411T180000
DTEND;TZID=America/Los_Angeles:20190411T193000
DTSTAMP:20260425T074009
CREATED:20190330T175739Z
LAST-MODIFIED:20190411T134937Z
UID:12984-1555005600-1555011000@vedc.chimento.co
SUMMARY:Lady Veterans + Military Spouses CONNECT SHARE GROW
DESCRIPTION:Let’s talk\, eat and share ideas to start or grow your business. We are a group of military-connected women in charge of growing an idea and turning it into a business that serves you and others. We connect on a monthly basis to share pertinent information around building and scaling your business. We guide our members to free or low-cost resources that positions them for economic and professional success. Our members are poised to become stronger business leaders through shared connections\, experiences and dedicated personnel support. Services are FREE.
URL:https://vedc.chimento.co/event/lady-veterans-military-spouses-connect-share-grow
LOCATION:VEDC Women’s Business Center\, 5121 Van Nuys Blvd.\, Suite 300A\, Sherman Oaks\, CA\, 91403\, United States
CATEGORIES:Special Event,Workshop
ATTACH;FMTTYPE=image/jpeg:https://vedc.chimento.co/wp-content/uploads/2019/03/4-11-19-lady-veterans-1.jpg
ORGANIZER;CN="VEDC Women&#8217%3Bs Business Center":MAILTO:info@vedc.org
END:VEVENT
BEGIN:VEVENT
DTSTART;TZID=America/Los_Angeles:20190402T173000
DTEND;TZID=America/Los_Angeles:20190402T200000
DTSTAMP:20260425T074009
CREATED:20190325T115208Z
LAST-MODIFIED:20190325T115208Z
UID:12917-1554226200-1554235200@vedc.chimento.co
SUMMARY:Founders Business Accelerator Info Session at Pacoima City Hall
DESCRIPTION:You’re a business owner and you’re looking to do even better\, but how do you find time to develop the game plan to grow and succeed?\nThe Founders Business Accelerator is a free program from the City of Los Angeles and Los Angeles Cleantech Incubator (LACI) designed to help your business grow. This 10-week program includes free legal\, accounting\, marketing and human resource help\, plus coaching from experienced executives and networking opportunities.\nThis free program runs April to June. Space is limited.\nApply by April 5th.\n 
URL:https://vedc.chimento.co/event/founders-business-accelerator-info-session-at-pacoima-city-hall
LOCATION:Pacoima City Hall\, 13520 Van Nuys Boulevard\, Los Angeles\, CA\, 91331\, United States
CATEGORIES:Special Event
ATTACH;FMTTYPE=image/jpeg:https://vedc.chimento.co/wp-content/uploads/2019/03/6d143d79569619769dcc9493624d123f.jpg
END:VEVENT
BEGIN:VEVENT
DTSTART;TZID=America/Los_Angeles:20190321T100000
DTEND;TZID=America/Los_Angeles:20190321T133000
DTSTAMP:20260425T074009
CREATED:20190227T133226Z
LAST-MODIFIED:20190321T125732Z
UID:12650-1553162400-1553175000@vedc.chimento.co
SUMMARY:Women’s + Business Conference Celebration
DESCRIPTION:VEDC-WBC recognizes the great contributions that women provide every single day and the significant role they play in society. In a panel of women entrepreneurs\, we will hear of the success and strong resilience every business owner needs to make their business successful. In addition\, you will have the opportunity to learn about liability\, as well as safety and loss prevention strategies\, through the Traveler’s Risk Education Program. This inspirational and education event can’t be missed. \nLocation: Airtel Plaza Hotel | 7277 Valjean Avenue | Van Nuys\, CA 91406
URL:https://vedc.chimento.co/event/womens-history-month-conference
LOCATION:Airtel Plaza Hotel\, 7277 Valjean Ave\, Van Nuys\, CA\, 91406\, United States
CATEGORIES:Special Event
ATTACH;FMTTYPE=image/jpeg:https://vedc.chimento.co/wp-content/uploads/2019/02/women-1-1.jpg
ORGANIZER;CN="VEDC Women&#8217%3Bs Business Center":MAILTO:info@vedc.org
END:VEVENT
BEGIN:VEVENT
DTSTART;TZID=America/Los_Angeles:20190302T130000
DTEND;TZID=America/Los_Angeles:20190302T170000
DTSTAMP:20260425T074009
CREATED:20190130T124911Z
LAST-MODIFIED:20190302T131951Z
UID:12281-1551531600-1551546000@vedc.chimento.co
SUMMARY:Restaurant Expo- Restaurant Resource Council
DESCRIPTION:FEED. LEAD. PROFIT EXPO \nHave a restaurant or food business or dream of opening one? \n\nMeet lots of vendors that can support your success\n• Attend a series of mini workshops targeted on growing your business\n• Hear a seasoned panel of owners share their secrets to success\n• Hang out with other restaurant people. We’re the best!\n• And so much more…\n\nVendor opportunities available. \n$10.00 to attend. \nAGENDA: \n1:00- 1:45 PM Register and Mingle with Restaurant Owners and Vendor \n1:45 -2:15 PM Opening Introduction of the WBC/ VEDC and the Restaurant Resource Council \n2:15- 2:45 PM Presentation: How to be a Fearless Restaurant Leader by Restaurant Success Center \n2:45 – 3:30 PM Food Sampling and Vendor Show \n3:30 – 4:15 PM Perfectly Seasoned Restaurant Owner Panel featuring: \nChef/Owner\, Teresa Montano of the acclaimed Otono \nOwner\, Tom Kaplan of Hugo’s Restaurants and Hugo’s Tacos \nWorld Champion Pizzaiolo\, Ali Haider of 786 Degrees Wood-Fired Pizza \n4:15 pm – 4:45 Vendor Show \n4:45 -5:00 pm Closing Ceremonies and Raffles \nLocation: West Valley -Warner Center Chamber of Commerce \n6100 Topanga Canyon Blvd\, Woodland Hills.\nBack of the center\, enter on Owensmouth near Ruth Chris Steak House.
URL:https://vedc.chimento.co/event/restaurant-expo-restaurant-resource-council
LOCATION:VEDC Women’s Business Center\, 5121 Van Nuys Blvd.\, Suite 300A\, Sherman Oaks\, CA\, 91403\, United States
CATEGORIES:Special Event,Workshop
ATTACH;FMTTYPE=image/jpeg:https://vedc.chimento.co/wp-content/uploads/2019/01/3-2-19-Restaurant-Expo.jpg
ORGANIZER;CN="VEDC Women&#8217%3Bs Business Center":MAILTO:info@vedc.org
END:VEVENT
BEGIN:VEVENT
DTSTART;TZID=America/Los_Angeles:20190228T173000
DTEND;TZID=America/Los_Angeles:20190228T193000
DTSTAMP:20260425T074009
CREATED:20190130T124900Z
LAST-MODIFIED:20190228T131837Z
UID:12278-1551375000-1551382200@vedc.chimento.co
SUMMARY:Direct Mail simplified with Every Door Direct Mail
DESCRIPTION:This retail product uses Simplified Addressing which makes it possible for small businesses to send Direct Mail flats without a permit and without the expense of list purchasing – saving you time and money!  The Postal Service is very excited to offer Every Door Direct Mail.  It’s a way for businesses and organizations of all sizes to reap the benefits of Standard Mail in reaching their target audiences with advertising messages\, special offers and other information.
URL:https://vedc.chimento.co/event/direct-mail-simplified-with-every-door-direct-mail
LOCATION:VEDC Women’s Business Center\, 5121 Van Nuys Blvd.\, Suite 300A\, Sherman Oaks\, CA\, 91403\, United States
CATEGORIES:Networking,Special Event,Workshop
ATTACH;FMTTYPE=image/jpeg:https://vedc.chimento.co/wp-content/uploads/2019/01/2-28-19-direct-mail.jpg
ORGANIZER;CN="VEDC Women&#8217%3Bs Business Center":MAILTO:info@vedc.org
END:VEVENT
BEGIN:VEVENT
DTSTART;TZID=America/Los_Angeles:20190226T090000
DTEND;TZID=America/Los_Angeles:20190226T113000
DTSTAMP:20260425T074009
CREATED:20190212T133633Z
LAST-MODIFIED:20190226T131849Z
UID:12434-1551171600-1551180600@vedc.chimento.co
SUMMARY:Celebrating Black History Month
DESCRIPTION:VEDC and WBC proudly presents resources for your business to find and fund new growth opportunities. Join us as we have a fireside chat with experts in the areas of Certification and Finance.
URL:https://vedc.chimento.co/event/celebrating-black-history-month-2
LOCATION:VEDC Women’s Business Center\, 5121 Van Nuys Blvd.\, Suite 300A\, Sherman Oaks\, CA\, 91403\, United States
CATEGORIES:Access to Capital,Certifications,Networking,Special Event,Workshop
ATTACH;FMTTYPE=image/jpeg:https://vedc.chimento.co/wp-content/uploads/2019/02/3-26-19-black-History-m.jpg
ORGANIZER;CN="VEDC Women&#8217%3Bs Business Center":MAILTO:info@vedc.org
END:VEVENT
BEGIN:VEVENT
DTSTART;TZID=America/Los_Angeles:20190225T173000
DTEND;TZID=America/Los_Angeles:20190225T193000
DTSTAMP:20260425T074009
CREATED:20190130T124850Z
LAST-MODIFIED:20190225T131938Z
UID:12270-1551115800-1551123000@vedc.chimento.co
SUMMARY:Women In Technology
DESCRIPTION:Come and meet other women in technology. We Stand Strong Behind Empowering Women in the Technology Industry. We Believe the Best Ideas Come from Inclusion. That’s Why We Strive to Ensure Equality. Come and learn more.
URL:https://vedc.chimento.co/event/women-in-technology
LOCATION:VEDC Women’s Business Center\, 5121 Van Nuys Blvd.\, Suite 300A\, Sherman Oaks\, CA\, 91403\, United States
CATEGORIES:Networking,Special Event,Workshop
ATTACH;FMTTYPE=image/jpeg:https://vedc.chimento.co/wp-content/uploads/2019/01/2-25-19-women-in-tech.jpg
ORGANIZER;CN="VEDC Women&#8217%3Bs Business Center":MAILTO:info@vedc.org
END:VEVENT
BEGIN:VEVENT
DTSTART;TZID=America/Los_Angeles:20190219T090000
DTEND;TZID=America/Los_Angeles:20190219T120000
DTSTAMP:20260425T074009
CREATED:20190130T124807Z
LAST-MODIFIED:20190219T131821Z
UID:12249-1550566800-1550577600@vedc.chimento.co
SUMMARY:State Basic Payroll Tax Seminar
DESCRIPTION:You will learn:\n*How and when to report state payroll taxes.\n*How to distinguish between an employee and an independent contractor.\n* Independent contractor reporting requirements.\n* Ways to get assistance.
URL:https://vedc.chimento.co/event/state-basic-payroll-tax-seminar-2
LOCATION:VEDC Women’s Business Center\, 5121 Van Nuys Blvd.\, Suite 300A\, Sherman Oaks\, CA\, 91403\, United States
CATEGORIES:Networking,Payroll & Taxes,Special Event,Workshop
ATTACH;FMTTYPE=image/jpeg:https://vedc.chimento.co/wp-content/uploads/2019/01/2-19-19-state.jpg
ORGANIZER;CN="VEDC Women&#8217%3Bs Business Center":MAILTO:info@vedc.org
END:VEVENT
BEGIN:VEVENT
DTSTART;TZID=America/Los_Angeles:20190204T173000
DTEND;TZID=America/Los_Angeles:20190204T193000
DTSTAMP:20260425T074009
CREATED:20190130T124746Z
LAST-MODIFIED:20190204T130511Z
UID:12238-1549301400-1549308600@vedc.chimento.co
SUMMARY:Avoiding Sales and Use Tax Common Mistakes
DESCRIPTION:This presentation will highlight CDTFA services and how to access them\, how to obtain a seller’s permit\, the basics of collecting\, reporting\, and paying sales and use tax\, and recordkeeping guidelines. You will also learn about common sales and use tax mistakes and how to avoid them.
URL:https://vedc.chimento.co/event/avoiding-sales-and-use-tax-common-mistakes
LOCATION:VEDC Women’s Business Center\, 5121 Van Nuys Blvd.\, Suite 300A\, Sherman Oaks\, CA\, 91403\, United States
CATEGORIES:Payroll & Taxes,Special Event,Workshop
ATTACH;FMTTYPE=image/jpeg:https://vedc.chimento.co/wp-content/uploads/2019/01/2-4-19-Avoiding-Sales.jpg
ORGANIZER;CN="VEDC Women&#8217%3Bs Business Center":MAILTO:info@vedc.org
END:VEVENT
BEGIN:VEVENT
DTSTART;TZID=America/Los_Angeles:20190121T173000
DTEND;TZID=America/Los_Angeles:20190121T193000
DTSTAMP:20260425T074009
CREATED:20181229T185913Z
LAST-MODIFIED:20190114T010359Z
UID:11750-1548091800-1548099000@vedc.chimento.co
SUMMARY:Tony Robbins Peak Performance Strategist: Turning Action Into Results
DESCRIPTION:Learn How To: \n\nActivate the driving force that moves you to action and results\nMove through limitations towards resourcefulness\nCultivate a state of mental strength to overcome barriers\nInspire strong leadership\nEmbrace the power of force to improve productivity
URL:https://vedc.chimento.co/event/tony-robbins-peak-performance-strategist-turning-action-into-results
LOCATION:VEDC Women’s Business Center\, 5121 Van Nuys Blvd.\, Suite 300A\, Sherman Oaks\, CA\, 91403\, United States
CATEGORIES:Networking,Special Event,Workshop
ATTACH;FMTTYPE=image/jpeg:https://vedc.chimento.co/wp-content/uploads/2018/12/1-21-18-Tony-Robbins.jpg
ORGANIZER;CN="VEDC Women&#8217%3Bs Business Center":MAILTO:info@vedc.org
END:VEVENT
BEGIN:VEVENT
DTSTART;TZID=America/Los_Angeles:20190103T173000
DTEND;TZID=America/Los_Angeles:20190103T193000
DTSTAMP:20260425T074009
CREATED:20181227T190322Z
LAST-MODIFIED:20190103T191927Z
UID:11732-1546536600-1546543800@vedc.chimento.co
SUMMARY:SBA Disaster Loans Available
DESCRIPTION:• Business Physical Disaster Loans – Loans to businesses to repair or replace disaster-damaged property owned by the business\, including real estate\, inventories\, supplies\, machinery and equipment. Businesses of any size are eligible. Private\, non-profit organizations such as charities\, churches\, private universities\, etc.\, are also eligible. \n• Economic Injury Disaster Loans (EIDL) – Working capital loans to help small businesses\, small agricultural cooperatives\, small businesses engaged in aquaculture\, and most private\, non-profit organizations of all sizes meet their ordinary and necessary financial obligations that cannot be met as a direct result of the disaster. These loans are intended to assist through the disaster recovery period. \n• Home Disaster Loans – Loans to homeowners or renters to repair or replace disaster-damaged real estate and personal property\, including automobiles.
URL:https://vedc.chimento.co/event/sba-disaster-loans-available-2
LOCATION:VEDC Women’s Business Center\, 5121 Van Nuys Blvd.\, Suite 300A\, Sherman Oaks\, CA\, 91403\, United States
CATEGORIES:Special Event
ATTACH;FMTTYPE=image/jpeg:https://vedc.chimento.co/wp-content/uploads/2018/12/1-10-18-Access-to-Capital-1.jpg
ORGANIZER;CN="VEDC Women&#8217%3Bs Business Center":MAILTO:info@vedc.org
END:VEVENT
BEGIN:VEVENT
DTSTART;TZID=America/Los_Angeles:20181218T180000
DTEND;TZID=America/Los_Angeles:20181218T200000
DTSTAMP:20260425T074009
CREATED:20181120T172006Z
LAST-MODIFIED:20181218T183451Z
UID:11367-1545156000-1545163200@vedc.chimento.co
SUMMARY:Celebrate the Holidays with the Restaurant Resource Council
DESCRIPTION:Join the Restaurant Resource Council for a celebratory holiday potluck.
URL:https://vedc.chimento.co/event/celebrate-the-holidays-with-the-restaurant-resource-council
LOCATION:VEDC Women’s Business Center\, 5121 Van Nuys Blvd.\, Suite 300A\, Sherman Oaks\, CA\, 91403\, United States
CATEGORIES:Networking,Special Event
ATTACH;FMTTYPE=image/jpeg:https://vedc.chimento.co/wp-content/uploads/2018/11/12-18-Restaurant-.jpg
ORGANIZER;CN="VEDC Women&#8217%3Bs Business Center":MAILTO:info@vedc.org
END:VEVENT
BEGIN:VEVENT
DTSTART;TZID=America/Los_Angeles:20181119T110000
DTEND;TZID=America/Los_Angeles:20181119T140000
DTSTAMP:20260425T074009
CREATED:20181114T020922Z
LAST-MODIFIED:20181119T170339Z
UID:11312-1542625200-1542636000@vedc.chimento.co
SUMMARY:LA Women’s Entrepreneurship Day 2018
DESCRIPTION:Mayor Eric Garcetti’s Office of Economic Development invites you to attend a celebration of \nLA Women’s Entrepreneurship Day 2018\nPathways to Prosperity\n \nDraw inspiration from women entrepreneurs who have created their own path to success\, and gain valuable information\, resources\, and contacts to chart your own. \nSchedule\n11:00 a.m. – 12:00 p.m. Speakers\n12:00 pm – 2:00 pm – Resource Expo \nSpeakers include: \nJane Wurwand\nFounder\, Dermalogica \nSonya Blake\nDirector of Community Business\, Office of Mayor Eric Garcetti \nKatie Chin\, Founder\nWok Star Inc. and Women’s Entrepreneurship Day\, Los Angeles Ambassador \nKalika Yap\nFounder & CEO\, Citrus Studios\, Luxe Link\, Orange & Bergamot \nRonda Jackson\nPrincipal and Chief Workplace Stylist\, Decor Interior Design\, Inc. \nLia Hirtz\nOwner\, World Empanadas \nJessica Reveles\nFounder\, J Squared Communications
URL:https://vedc.chimento.co/event/la-womens-entrepreneurship-day-2018
LOCATION:Los Angeles City Hall\, South Lawn\, 200 N. Spring Street\, Los Angeles\, CA\, 90012\, United States
CATEGORIES:Special Event
ATTACH;FMTTYPE=image/jpeg:https://vedc.chimento.co/wp-content/uploads/2018/11/LA-Womens-Entrepreneurship-Day-2018.jpg
ORGANIZER;CN="VEDC Women&#8217%3Bs Business Center":MAILTO:info@vedc.org
END:VEVENT
BEGIN:VEVENT
DTSTART;TZID=America/Los_Angeles:20181103T100000
DTEND;TZID=America/Los_Angeles:20181103T150000
DTSTAMP:20260425T074009
CREATED:20181015T142324Z
LAST-MODIFIED:20181103T154847Z
UID:10987-1541239200-1541257200@vedc.chimento.co
SUMMARY:Small Business Legal Academy
DESCRIPTION:Bet Tzedek’s Small Business Legal Academy\, sponsored in conjunction with the VEDC’s Women’s Business Center\, is a free workshop bringing the top lawyers from various law firms to help guide and counsel LA’s small business community. In addition to receiving critical legal information via a presentation\, attendees will have the opportunity to receive one-on-one legal consulting—all free of charge. \nPresentation topics will include entity formation\, small business tax considerations\, intellectual property\, employment law basics\, contracts basics\, and other topics. \nReservations encouraged but not required. \nFor more information about Bet Tzedek’s legal services\, visit www.bettzedek.org.
URL:https://vedc.chimento.co/event/small-business-legal-academy
LOCATION:VEDC Women’s Business Center\, 5121 Van Nuys Blvd.\, Suite 300A\, Sherman Oaks\, CA\, 91403\, United States
CATEGORIES:Special Event,Workshop
ORGANIZER;CN="VEDC Women&#8217%3Bs Business Center":MAILTO:info@vedc.org
END:VEVENT
BEGIN:VEVENT
DTSTART;TZID=America/Chicago:20181011T083000
DTEND;TZID=America/Chicago:20181011T140000
DTSTAMP:20260425T074009
CREATED:20180827T181224Z
LAST-MODIFIED:20180924T150143Z
UID:10383-1539246600-1539266400@vedc.chimento.co
SUMMARY:Chicagoland Veteran's Celebration & Resource Fair
DESCRIPTION:Veteran’s Celebration and Resource Fair\n Honor | Recognition | Opportunity\nLocation: Harrah’s Joliet Hotel\, 151 N Joliet St.\, Joliet\, IL 60432\nHosted by\nGSU Veterans Center\, Illinois Joining Forces\, Inner Voice Chicago\, KFA\, Inc.\, Operation H.E.L.P.\, Quad County Urban League\, and VEDC\, and sponsored by Travelers.\nAre you looking to start or grow your business\, or need tips on how to prepare for a job opportunity\, or looking to make connections? \nYou are invited to join us! \nThis event is being held in celebration of National Veterans Small Business Week and in recognition of Veteran’s Day. The day begins with coffee\, networking\, resource panel\, resource tables\, boot camp style trainings: “How to Start Your Business” and “How to Prep for a Job Opportunity”\, box lunch and much more. \nMust pre-register. Registration is free for veterans and their spouses. \nAgenda: (Subject to change)\n\n\n8:30 AM: Check-in Begins – Location: Las Vegas Room\n\n\nResource Fair\, Morning Coffee\, and Networking\n\n\n\n\n 8:30 AM-1:00 PM: Resource Fair\n\n\n9:30 AM: Welcome\, Color Guard\, and Veteran Recognition\n\n\nNational Anthem:\nPresentation by Jerome Coleman\, Staff Sergeant\, U.S. Air Force and Illinois Air National Guard and Comcast Engineer\n\n\n\n\n\n\n\nSponsor welcome: Travelers\n\n\nVeterans Recognition\n\n\n\n\n10:00 AM: Resource Panel\n\n\nQuad County Urban League\n\n\nInner Voice Chicago\n\n\nOperation H.E.L.P.\n\n\nIllinois Joining Forces\n\n\n\n\n10:30 AM: Business Boot Camp sponsored by Travelers\n\n\nHow to start your business:\n\nGuided Business Plan Training and Tips on How to Access Capital to Grow Your Business\n\n\n\n\n\n\n\n12:00 PM: Box Lunch Break\n\n\n12:30 PM: Workforce Boot Camp\n\n\nWorkforce Training and Employment Resources\n\nPreparing For The Job: Know Your Background | The Resume | The Interview\n\n\n\n\n\n\n\n2 PM: Closure\n\n\n_______________________ \nFor more information call 212-231-4313\n  \n 
URL:https://vedc.chimento.co/event/chicagoland-veteran-resource-fair
LOCATION:CA
CATEGORIES:Expo,Guided Business Plan,Networking,Special Event,Travelers Small Business Risk Education Program,Workshop
ATTACH;FMTTYPE=image/jpeg:https://vedc.chimento.co/wp-content/uploads/2018/08/Vet-Celebration-and-Resource-image.jpg
ORGANIZER;CN="VEDC":MAILTO:info@vedc.org
END:VEVENT
BEGIN:VEVENT
DTSTART;TZID=America/Los_Angeles:20180503T113000
DTEND;TZID=America/Los_Angeles:20180503T133000
DTSTAMP:20260425T074009
CREATED:20180428T013608Z
LAST-MODIFIED:20180801T005009Z
UID:9113-1525347000-1525354200@vedc.chimento.co
SUMMARY:Webinar Watch Party: Sharing Your Story Through Video
DESCRIPTION:Join us for a webinar watch party this Thursday and learn about content creation in marketing\, taught by Google! We will offer tripods\, cameras\, and consultants to help you practice and get started. Free snacks and lunch provided.
URL:https://vedc.chimento.co/event/webinar-watch-party-sharing-your-story-through-video
LOCATION:VEDC Women’s Business Center\, 5121 Van Nuys Blvd.\, Suite 300A\, Sherman Oaks\, CA\, 91403\, United States
CATEGORIES:Small Business Week,Special Event,Workshop
ORGANIZER;CN="VEDC Women&#8217%3Bs Business Center":MAILTO:info@vedc.org
END:VEVENT
END:VCALENDAR